BEGIN:VCALENDAR
VERSION:2.0
PRODID:-//eventon.com NONSGML v1.0//EN
BEGIN:VEVENT
UID:69e4c8db0eb7b
DTSTAMP:20260419T122147
DTSTART:20211028T214500Z
DTEND:20211118T230000Z
TZID:America/New_York
LOCATION:
SUMMARY:Meditation 101: A Beginner Series
DESCRIPTION: This series will teach you how to start and maintain a regular meditation practice. It is open to beginners and those looking to restart or gain more understanding in the practice. Topics covered include: What is meditation? Why meditate? How to meditate? How the mind works. Techniques to keeping a[..]\nhttps://michaelhutkinsyoga.com/events/meditation-101-a-beginner-series/
URL:https://michaelhutkinsyoga.com/events/meditation-101-a-beginner-series/
END:VEVENT
END:VCALENDAR