BEGIN:VCALENDAR
VERSION:2.0
PRODID:-//eventon.com NONSGML v1.0//EN
BEGIN:VEVENT
UID:69ec9ce2100d9
DTSTAMP:20260425T105218
DTSTART:20250708T233000Z
DTEND:20250709T010000Z
TZID:America/New_York
LOCATION:
SUMMARY:Tuesday Night Hip Opening Series
DESCRIPTION: SUMMER HIP OPENING IS BACK! 7:30-9pm July 8-Aug 5th 5 weeks 5 weeks of Asana and pranayama with a focus on hip opening. Isn&#8217;t it nice to sit and practice pranayama and meditation with comfortable legs?! If you are not sure\,  take this course! Classes can be taken online or[..]\nhttps://michaelhutkinsyoga.com/events/tuesday-night-hip-opening-series/
URL:https://michaelhutkinsyoga.com/events/tuesday-night-hip-opening-series/
END:VEVENT
END:VCALENDAR