BEGIN:VCALENDAR
VERSION:2.0
PRODID:-//eventon.com NONSGML v1.0//EN
BEGIN:VEVENT
UID:69ebc488ce8c4
DTSTAMP:20260424T192912
DTSTART:20231020T220000Z
DTEND:20231022T190000Z
TZID:America/New_York
LOCATION:
SUMMARY:Chair Yoga Training at Sivananda Ashram Yoga Camp
DESCRIPTION: Learn how to teach a complete yoga class for those who can not access the mat. Practicing in a chair offers students with limited mobility the opportunity to experience the benefits of Yoga. This program will offer you the tools to help students build strength\,  awareness and confidence and to[..]\nhttps://michaelhutkinsyoga.com/events/chair-yoga-training-at-sivananda-ashram-yoga-camp/
URL:https://michaelhutkinsyoga.com/events/chair-yoga-training-at-sivananda-ashram-yoga-camp/
END:VEVENT
END:VCALENDAR