BEGIN:VCALENDAR
VERSION:2.0
PRODID:-//eventon.com NONSGML v1.0//EN
BEGIN:VEVENT
UID:69ecdb6712729
DTSTAMP:20260425T151903
DTSTART:20240531T220000Z
DTEND:20240601T010000Z
TZID:America/New_York
LOCATION:
SUMMARY:Chair Yoga Training at PranaShanti
DESCRIPTION: For ALL Yoga Teachers and Students! Chair Yoga adapts traditional yoga poses so that they can be done with a chair for support\,  making yoga more accessible for all people. Our society is aging and there are many people unable to practice a standard yoga class. Chair yoga also provides[..]\nhttps://michaelhutkinsyoga.com/events/chair-yoga-training-at-pranashanti/
URL:https://michaelhutkinsyoga.com/events/chair-yoga-training-at-pranashanti/
END:VEVENT
END:VCALENDAR