BEGIN:VCALENDAR
VERSION:2.0
PRODID:-//eventon.com NONSGML v1.0//EN
BEGIN:VEVENT
UID:69ead64c28ca6
DTSTAMP:20260424T023244
DTSTART:20230911T102800Z
DTEND:20230930T102800Z
TZID:America/New_York
LOCATION:
SUMMARY:Fall yoga Schedule begins Sept 11
DESCRIPTION: In Person Ottawa: Mondays 7:30-9pm @ 19Leeming   (Message me to register) Online/Home classes: Tuesdays 12-1 Wednesdays 7:30-8:30pm Thursdays 9-10:15am   Pranashanti: Wednesdays 9:30-10:30 Gently yoga Wednesdays 12-1 Hatha yoga\nhttps://michaelhutkinsyoga.com/events/fall-yoga-schedule-begins-sept-11/
URL:https://michaelhutkinsyoga.com/events/fall-yoga-schedule-begins-sept-11/
END:VEVENT
END:VCALENDAR