BEGIN:VCALENDAR
VERSION:2.0
PRODID:-//eventon.com NONSGML v1.0//EN
BEGIN:VEVENT
UID:69ebeb78e5c98
DTSTAMP:20260424T221520
DTSTART:20220407T214500Z
DTEND:20220414T230000Z
TZID:America/New_York
LOCATION:
SUMMARY:The Causes of Stress & How to Beat Them
DESCRIPTION: We all handle stress in different ways\,  some healthier than others. Some people can stay relaxed in a stressful situation and others feel stressed in a relatively calm situation. The challenge is often not the stressor but how we perceive and react to it. This program will explore the 5[..]\nhttps://michaelhutkinsyoga.com/events/the-causes-of-stress-how-to-beat-them/
URL:https://michaelhutkinsyoga.com/events/the-causes-of-stress-how-to-beat-them/
END:VEVENT
END:VCALENDAR